BEGIN:VCALENDAR
VERSION:2.0
PRODID:-//   AIPP 2026 España - ECPv6.15.14//NONSGML v1.0//EN
CALSCALE:GREGORIAN
METHOD:PUBLISH
X-ORIGINAL-URL:https://www.aipp2026.es
X-WR-CALDESC:Eventos para    AIPP 2026 España
REFRESH-INTERVAL;VALUE=DURATION:PT1H
X-Robots-Tag:noindex
X-PUBLISHED-TTL:PT1H
BEGIN:VTIMEZONE
TZID:Europe/Helsinki
BEGIN:DAYLIGHT
TZOFFSETFROM:+0200
TZOFFSETTO:+0300
TZNAME:EEST
DTSTART:20250330T010000
END:DAYLIGHT
BEGIN:STANDARD
TZOFFSETFROM:+0300
TZOFFSETTO:+0200
TZNAME:EET
DTSTART:20251026T010000
END:STANDARD
BEGIN:DAYLIGHT
TZOFFSETFROM:+0200
TZOFFSETTO:+0300
TZNAME:EEST
DTSTART:20260329T010000
END:DAYLIGHT
BEGIN:STANDARD
TZOFFSETFROM:+0300
TZOFFSETTO:+0200
TZNAME:EET
DTSTART:20261025T010000
END:STANDARD
BEGIN:DAYLIGHT
TZOFFSETFROM:+0200
TZOFFSETTO:+0300
TZNAME:EEST
DTSTART:20270328T010000
END:DAYLIGHT
BEGIN:STANDARD
TZOFFSETFROM:+0300
TZOFFSETTO:+0200
TZNAME:EET
DTSTART:20271031T010000
END:STANDARD
END:VTIMEZONE
BEGIN:VEVENT
DTSTART;TZID=Europe/Helsinki:20260502T000000
DTEND;TZID=Europe/Helsinki:20260502T235959
DTSTAMP:20260424T153804
CREATED:20260424T072600Z
LAST-MODIFIED:20260424T072600Z
UID:563-1777680000-1777766399@www.aipp2026.es
SUMMARY:Pastor por un día - visita a las vacas de Ternera del Pirineo
DESCRIPTION:Te invitamos a pasar una mañana para vivir la experiencia de pastor con nuestras vacas. Iremos a ver las vacas a la montaña\, les daremos de comer y al final haremos una degustación. \nObjetivos:\n1. Visibilizar el día a día de la ganadería de extensiva de montaña.\n2. Divulgar la diferenciación del manejo de la ganadería extensiva.\n3. Acercar a consumidores y productores. \nPúblico en general: familias\, parejas\, personas que buscan actividades de agroturismo. También podría enfocarse a profesionales de HORECA que quieren introducir productos de origen diferenciado en sus negocios. \nPrimer sábado de cada mes. Por el momento están planificadas:\n– Sábado 2 de mayo\n– Sábado 6 de junio\n– Sábado 4 de julio
URL:https://www.aipp2026.es/calendarioaipp2026/pastor-por-un-dia-visita-a-las-vacas-de-ternera-del-pirineo/
LOCATION:Villanova\, valle de Benaque\, Pirineo Aragonés\, Villanova\, valle de Benaque\, Pirineo Aragonés
CATEGORIES:Jornadas
ORGANIZER;CN="Ternera del Pirineo (Teal S. Coop. Peque%C3%B1a)":MAILTO:info@terneradelpirineo.es
END:VEVENT
END:VCALENDAR