BEGIN:VCALENDAR
VERSION:2.0
PRODID:-//   AIPP 2026 España - ECPv6.15.14//NONSGML v1.0//EN
CALSCALE:GREGORIAN
METHOD:PUBLISH
X-WR-CALNAME:   AIPP 2026 España
X-ORIGINAL-URL:https://www.aipp2026.es
X-WR-CALDESC:Eventos para    AIPP 2026 España
REFRESH-INTERVAL;VALUE=DURATION:PT1H
X-Robots-Tag:noindex
X-PUBLISHED-TTL:PT1H
BEGIN:VTIMEZONE
TZID:Europe/Helsinki
BEGIN:DAYLIGHT
TZOFFSETFROM:+0200
TZOFFSETTO:+0300
TZNAME:EEST
DTSTART:20250330T010000
END:DAYLIGHT
BEGIN:STANDARD
TZOFFSETFROM:+0300
TZOFFSETTO:+0200
TZNAME:EET
DTSTART:20251026T010000
END:STANDARD
BEGIN:DAYLIGHT
TZOFFSETFROM:+0200
TZOFFSETTO:+0300
TZNAME:EEST
DTSTART:20260329T010000
END:DAYLIGHT
BEGIN:STANDARD
TZOFFSETFROM:+0300
TZOFFSETTO:+0200
TZNAME:EET
DTSTART:20261025T010000
END:STANDARD
BEGIN:DAYLIGHT
TZOFFSETFROM:+0200
TZOFFSETTO:+0300
TZNAME:EEST
DTSTART:20270328T010000
END:DAYLIGHT
BEGIN:STANDARD
TZOFFSETFROM:+0300
TZOFFSETTO:+0200
TZNAME:EET
DTSTART:20271031T010000
END:STANDARD
END:VTIMEZONE
BEGIN:VEVENT
DTSTART;TZID=Europe/Helsinki:20260422T000000
DTEND;TZID=Europe/Helsinki:20260425T235959
DTSTAMP:20260424T134300
CREATED:20260304T093741Z
LAST-MODIFIED:20260304T093741Z
UID:469-1776816000-1777161599@www.aipp2026.es
SUMMARY:XVI Congreso Internacional Agricultura Ecológica
DESCRIPTION:La Sociedad Española de Agricultura Ecológica y Agroecología (SEAE) celebra su XVI Congreso SEAE los días 22 al 25 de abril de 2026\, en Pamplona-Iruña. \nEl Congreso se retransmite en directo desde el canal de YouTube de SEAE . \n“Agroecología: Raíces y futuro”\, es el lema integra memoria y prospectiva: remite al suelo vivo\, a las prácticas campesinas\, a la memoria rural\, a la diversidad genética y cultural\, a las personas pioneras que han impulsado este modelo; pero también a la investigación e innovación científica y social\, a las nuevas estrategias de adaptación climática\, al relevo generacional\, a otros modelos socioeconómicos más justos y a políticas públicas transformadoras. \nEn su conjunto\, propone una mirada que conecta el valor de las raíces con la necesidad de construir un futuro agroecológico sólido\, resiliente y sostenible. \n\n\n\n\n\n\n\n\n\n\n\n\n\n\n\n\n\n\n\n\n\n\n\n\n  \nDos paneles específicos: Uso del ganado para la gestión de los espacios naturales y paisajes en mosaico. Y «Mitos y certidumbres en el uso del ganado para servicios ecosistémicos» Con motivo de 2026 año del pastoreo.
URL:https://www.aipp2026.es/calendarioaipp2026/xvi-congreso-internacional-agricultura-ecologica/
LOCATION:IRUÑA\, PAMPLONA
CATEGORIES:CONGRESO
ATTACH;FMTTYPE=image/png:https://www.aipp2026.es/wp-content/uploads/2026/03/XVI-CONGRESO-SEAE-banner-web-evento-scaled-1.png
ORGANIZER;CN="Sociedad Espa%C3%B1ola de Agricultura Ecol%C3%B3gica y Agroecolog%C3%ADa (SEAE)":MAILTO:presidente@agroecologia.net
END:VEVENT
END:VCALENDAR